BEGIN:VCALENDAR
VERSION:2.0
PRODID:-//Gritstone Club - ECPv6.15.20//NONSGML v1.0//EN
CALSCALE:GREGORIAN
METHOD:PUBLISH
X-ORIGINAL-URL:https://gritstoneclub.org.uk
X-WR-CALDESC:Events for Gritstone Club
REFRESH-INTERVAL;VALUE=DURATION:PT1H
X-Robots-Tag:noindex
X-PUBLISHED-TTL:PT1H
BEGIN:VTIMEZONE
TZID:UTC
BEGIN:STANDARD
TZOFFSETFROM:+0000
TZOFFSETTO:+0000
TZNAME:UTC
DTSTART:20250101T000000
END:STANDARD
END:VTIMEZONE
BEGIN:VEVENT
DTSTART;TZID=UTC:20260904T080000
DTEND;TZID=UTC:20260906T170000
DTSTAMP:20260422T111736
CREATED:20251202T111040Z
LAST-MODIFIED:20260117T184504Z
UID:10000004-1788508800-1788714000@gritstoneclub.org.uk
SUMMARY:Smithy Maintenance Meet
DESCRIPTION:
URL:https://gritstoneclub.org.uk/event/smithy-maintenance-meet/
LOCATION:The Smithy\, Thirlmere.\, Dam End Road\, Thirlmere\, CA12 4TG\, United Kingdom
CATEGORIES:Hut Maintenance
GEO:54.565129,;-3.060495
X-APPLE-STRUCTURED-LOCATION;VALUE=URI;X-ADDRESS=The Smithy Thirlmere. Dam End Road Thirlmere CA12 4TG United Kingdom;X-APPLE-RADIUS=500;X-TITLE=Dam End Road\, Thirlmere:geo:-3.060495,54.565129,
END:VEVENT
END:VCALENDAR